BEGIN:VCALENDAR
VERSION:2.0
PRODID:ieeecss.org
X-PUBLISHED-TTL:P1W
BEGIN:VEVENT
UID:69e563436272e
DTSTART:20270712T220000Z
SEQUENCE:0
TRANSP:OPAQUE
DTEND:20270716T100000Z
SUMMARY:European Control Conference 2027
CLASS:PUBLIC
DTSTAMP:20260419T182035Z
END:VEVENT
END:VCALENDAR