BEGIN:VCALENDAR
VERSION:2.0
PRODID:ieeecss.org
X-PUBLISHED-TTL:P1W
BEGIN:VEVENT
UID:69e55ffcd7d3a
DTSTART:20261129T083000Z
SEQUENCE:0
TRANSP:OPAQUE
DTEND:20261201T083000Z
SUMMARY:International Symposium on Advanced Control of Industrial Processes
CLASS:PUBLIC
DTSTAMP:20260419T180636Z
END:VEVENT
END:VCALENDAR