BEGIN:VCALENDAR
VERSION:2.0
PRODID:ieeecss.org
X-PUBLISHED-TTL:P1W
BEGIN:VEVENT
UID:69eceb3e7971b
DTSTART:20211213T143000Z
SEQUENCE:0
TRANSP:OPAQUE
DTEND:20211215T143000Z
SUMMARY:60th IEEE Conference on Decision and Control
CLASS:PUBLIC
DTSTAMP:20260425T112638Z
END:VEVENT
END:VCALENDAR